BEGIN:VCALENDAR
VERSION:2.0
PRODID:-//The Thrive Program - ECPv6.13.2.1//NONSGML v1.0//EN
CALSCALE:GREGORIAN
METHOD:PUBLISH
X-WR-CALNAME:The Thrive Program
X-ORIGINAL-URL:https://thethriveprogram.org
X-WR-CALDESC:Events for The Thrive Program
REFRESH-INTERVAL;VALUE=DURATION:PT1H
X-Robots-Tag:noindex
X-PUBLISHED-TTL:PT1H
BEGIN:VTIMEZONE
TZID:America/Los_Angeles
BEGIN:DAYLIGHT
TZOFFSETFROM:-0800
TZOFFSETTO:-0700
TZNAME:PDT
DTSTART:20220313T100000
END:DAYLIGHT
BEGIN:STANDARD
TZOFFSETFROM:-0700
TZOFFSETTO:-0800
TZNAME:PST
DTSTART:20221106T090000
END:STANDARD
END:VTIMEZONE
BEGIN:VEVENT
DTSTART;TZID=America/Los_Angeles:20220222T173000
DTEND;TZID=America/Los_Angeles:20220222T190000
DTSTAMP:20260423T161512
CREATED:20220120T052916Z
LAST-MODIFIED:20220203T065155Z
UID:158-1645551000-1645556400@thethriveprogram.org
SUMMARY:Los Altos (Tuesdays; 5 weeks)
DESCRIPTION:Join us for 5 THRIVE sessions in Los Altos\, CA\, every Tuesday from 5:30-7pm. Sessions will start on Feb 22nd and go through March 23rd. \nPlease contact thethriveprogramteam@gmail.com if you have any questions. \nREGISTER FOR THIS SESSION
URL:https://thethriveprogram.org/event/los-altos-5-weeks/
LOCATION:Los Altos Community Center\, 97 Hillview Avenue\, Los Altos\, United States
CATEGORIES:In-Person
ORGANIZER;CN="Helen Vallaeys":MAILTO:thethriveprogramteam@gmail.com
END:VEVENT
BEGIN:VEVENT
DTSTART;TZID=America/Los_Angeles:20220214T173000
DTEND;TZID=America/Los_Angeles:20220218T190000
DTSTAMP:20260423T161512
CREATED:20220120T054148Z
LAST-MODIFIED:20220120T054148Z
UID:164-1644859800-1645210800@thethriveprogram.org
SUMMARY:Online (5 days)
DESCRIPTION:Join us for this accelerated THRIVE workshop. You’ll join 5 THRIVE sessions online sessions from 5:30-7pm on Feb 14-18. \nPlease contact thethriveprogramteam@gmail.com if you have any questions. \nREGISTER FOR THIS SESSION
URL:https://thethriveprogram.org/event/online-5-days/
LOCATION:Online\, Online
CATEGORIES:Online
ORGANIZER;CN="Helen Vallaeys":MAILTO:thethriveprogramteam@gmail.com
END:VEVENT
END:VCALENDAR